BEGIN:VCALENDAR
VERSION:2.0
METHOD:PUBLISH
PRODID:-//Telerik Inc.//Sitefinity CMS 14.4//EN
BEGIN:VEVENT
DESCRIPTION:
DTEND;VALUE=DATE:20260522
DTSTAMP:20260422T135840Z
DTSTART;VALUE=DATE:20260520
LOCATION:
SEQUENCE:0
SUMMARY:Bastion Lighting Colours Blue and Purple on May 20\, 2026 for Hunti
 ngton Disease Awareness
UID:RFCALITEM639124379202995878
X-ALT-DESC;FMTTYPE=text/html:
END:VEVENT
END:VCALENDAR
