BEGIN:VCALENDAR
VERSION:2.0
METHOD:PUBLISH
PRODID:-//Telerik Inc.//Sitefinity CMS 14.4//EN
BEGIN:VEVENT
DESCRIPTION:
DTEND;VALUE=DATE:20260521
DTSTAMP:20260422T135446Z
DTSTART;VALUE=DATE:20260519
LOCATION:
SEQUENCE:0
SUMMARY:Bastion Lighting Colours Orange and Blue on May 19\, 2026 for Brain
  Tumour Awareness Month
UID:RFCALITEM639124376865920837
X-ALT-DESC;FMTTYPE=text/html:
END:VEVENT
END:VCALENDAR
